BEGIN:VCALENDAR
VERSION:2.0
PRODID:icalendar-ruby
CALSCALE:GREGORIAN
METHOD:PUBLISH
BEGIN:VEVENT
DTSTAMP:20260421T140627Z
UID:9-301161@nerstrandumc.org
DTSTART:20260510T140000Z
DTEND:20260510T150000Z
CLASS:PUBLIC
CREATED:20260421T073336
DESCRIPTION:
LAST-MODIFIED:20260421T073336
LOCATION:Nerstrand UMC
SUMMARY:Sunday Worship
URL;VALUE=URI:https://nerstrandumc.org/events/sunday-worship/2026-05-10
ATTACH;FILENAME=NerstrandUMC_church.jpg;FMTTYPE=image/jpeg:https://dq5pwpg1
 q8ru0.cloudfront.net/2025/12/09/17/23/43/d9bc680a-52ea-48b5-aec9-162b583fd
 4b9/NerstrandUMC_church.jpg
END:VEVENT
END:VCALENDAR
