BEGIN:VCALENDAR
VERSION:2.0
PRODID:icalendar-ruby
CALSCALE:GREGORIAN
METHOD:PUBLISH
BEGIN:VEVENT
DTSTAMP:20260421T130518Z
UID:41-299666@nerstrandumc.org
DTSTART:20260509T130000Z
DTEND:20260509T190000Z
CLASS:PUBLIC
CREATED:20260419T165423
DESCRIPTION:
LAST-MODIFIED:20260419T165423
LOCATION:Nerstrand United Methodist Church\; 12 Maple Street\, Nerstrand MN
SUMMARY:Rummage Sale
URL;VALUE=URI:https://nerstrandumc.org/events/rummage-sale/2026-05-09
ATTACH;FILENAME=Garage-Sale-2026-landscape.jpg;FMTTYPE=image/jpeg:https://d
 q5pwpg1q8ru0.cloudfront.net/2026/04/19/21/53/15/e0cd5299-b45a-4ac0-96e0-aa
 17c3f42ec3/Garage-Sale-2026-landscape.jpg
END:VEVENT
END:VCALENDAR
