BEGIN:VCALENDAR
VERSION:2.0
PRODID:icalendar-ruby
CALSCALE:GREGORIAN
METHOD:PUBLISH
BEGIN:VEVENT
DTSTAMP:20260424T180132Z
UID:8-304027@nerstrandumc.org
DTSTART:20260926T140000Z
DTEND:20260926T170000Z
CLASS:PUBLIC
CREATED:20260424T104449
DESCRIPTION:
LAST-MODIFIED:20260424T104449
LOCATION:Nerstrand UMC
SUMMARY:Free Thrift Store
URL;VALUE=URI:https://nerstrandumc.org/events/free-thrift-store--7/2026-09-
 26
ATTACH;FILENAME=Wednsday-Wear.png;FMTTYPE=image/png:https://dq5pwpg1q8ru0.c
 loudfront.net/2025/12/09/17/34/46/481100cd-8443-4736-89a8-ee234c253f83/Wed
 nsday-Wear.png
END:VEVENT
END:VCALENDAR
